BEGIN:VCALENDAR
VERSION:2.0
PRODID:-//Dairy Arts Center - ECPv6.15.20//NONSGML v1.0//EN
CALSCALE:GREGORIAN
METHOD:PUBLISH
X-ORIGINAL-URL:https://staging.thedairy.org
X-WR-CALDESC:Events for Dairy Arts Center
REFRESH-INTERVAL;VALUE=DURATION:PT1H
X-Robots-Tag:noindex
X-PUBLISHED-TTL:PT1H
BEGIN:VTIMEZONE
TZID:America/Denver
BEGIN:DAYLIGHT
TZOFFSETFROM:-0700
TZOFFSETTO:-0600
TZNAME:MDT
DTSTART:20240310T090000
END:DAYLIGHT
BEGIN:STANDARD
TZOFFSETFROM:-0600
TZOFFSETTO:-0700
TZNAME:MST
DTSTART:20241103T080000
END:STANDARD
BEGIN:DAYLIGHT
TZOFFSETFROM:-0700
TZOFFSETTO:-0600
TZNAME:MDT
DTSTART:20250309T090000
END:DAYLIGHT
BEGIN:STANDARD
TZOFFSETFROM:-0600
TZOFFSETTO:-0700
TZNAME:MST
DTSTART:20251102T080000
END:STANDARD
BEGIN:DAYLIGHT
TZOFFSETFROM:-0700
TZOFFSETTO:-0600
TZNAME:MDT
DTSTART:20260308T090000
END:DAYLIGHT
BEGIN:STANDARD
TZOFFSETFROM:-0600
TZOFFSETTO:-0700
TZNAME:MST
DTSTART:20261101T080000
END:STANDARD
END:VTIMEZONE
BEGIN:VEVENT
DTSTART;TZID=America/Denver:20250621T150000
DTEND;TZID=America/Denver:20250621T163000
DTSTAMP:20260419T155019
CREATED:20250514T211833Z
LAST-MODIFIED:20250606T152610Z
UID:10006635-1750518000-1750523400@staging.thedairy.org
SUMMARY:Anxiety Club (in conjunction with the Boulder Comedy Festival)
DESCRIPTION:TICKETS  \nJune 21-22 \nThis offers a heartfelt and humorous exploration of anxiety through the lens of some of today’s most brilliant comedians: Tiffany Jenkins\, Joe List\, Marc Maron\, Aparna Nancherla\, Mark Normand\, Baron Vaughn\, and Eva Victor. With a mix of stand-up performances\, sketch videos\, exclusive interviews\, and relatable everyday life scenarios\, they candidly share their personal struggles with anxiety\, the world’s most prevalent mental health condition\, affecting more than 300 million people globally. Join these comedians as they reveal how vulnerability and humor can coexist\, turning their mental health battles into powerful narratives that resonate with audiences everywhere. And\, have some laughs along the way. (Wendy Lobel\, 2025\, USA\,)
URL:https://staging.thedairy.org/event/anxiety-club-in-conjunction-with-the-boulder-comedy-festival/2025-06-21/
LOCATION:Boedecker Theater\, Walnut Street\, Boulder\, CO\, 80302\, United States
CATEGORIES:Cinema,Comedy
ATTACH;FMTTYPE=image/jpeg:https://media.thedairy.org/wp-content/uploads/2025/05/14151300/AnxietyClub_KeyArt_40_Medium.jpg
GEO:40.0193115;-105.261067
X-APPLE-STRUCTURED-LOCATION;VALUE=URI;X-ADDRESS=Boedecker Theater Walnut Street Boulder CO 80302 United States;X-APPLE-RADIUS=500;X-TITLE=Walnut Street:geo:-105.261067,40.0193115
END:VEVENT
END:VCALENDAR