BEGIN:VCALENDAR
VERSION:2.0
PRODID:-//Dairy Arts Center - ECPv6.15.20//NONSGML v1.0//EN
CALSCALE:GREGORIAN
METHOD:PUBLISH
X-WR-CALNAME:Dairy Arts Center
X-ORIGINAL-URL:https://staging.thedairy.org
X-WR-CALDESC:Events for Dairy Arts Center
REFRESH-INTERVAL;VALUE=DURATION:PT1H
X-Robots-Tag:noindex
X-PUBLISHED-TTL:PT1H
BEGIN:VTIMEZONE
TZID:America/Denver
BEGIN:DAYLIGHT
TZOFFSETFROM:-0700
TZOFFSETTO:-0600
TZNAME:MDT
DTSTART:20240310T090000
END:DAYLIGHT
BEGIN:STANDARD
TZOFFSETFROM:-0600
TZOFFSETTO:-0700
TZNAME:MST
DTSTART:20241103T080000
END:STANDARD
BEGIN:DAYLIGHT
TZOFFSETFROM:-0700
TZOFFSETTO:-0600
TZNAME:MDT
DTSTART:20250309T090000
END:DAYLIGHT
BEGIN:STANDARD
TZOFFSETFROM:-0600
TZOFFSETTO:-0700
TZNAME:MST
DTSTART:20251102T080000
END:STANDARD
BEGIN:DAYLIGHT
TZOFFSETFROM:-0700
TZOFFSETTO:-0600
TZNAME:MDT
DTSTART:20260308T090000
END:DAYLIGHT
BEGIN:STANDARD
TZOFFSETFROM:-0600
TZOFFSETTO:-0700
TZNAME:MST
DTSTART:20261101T080000
END:STANDARD
END:VTIMEZONE
BEGIN:VEVENT
DTSTART;TZID=America/Denver:20250502T193000
DTEND;TZID=America/Denver:20250502T210000
DTSTAMP:20260420T031341
CREATED:20250319T135908Z
LAST-MODIFIED:20250416T220957Z
UID:10006094-1746214200-1746219600@staging.thedairy.org
SUMMARY:Beethoven Blues: Frequent Flyers Soars to the Music of Jon Batiste
DESCRIPTION:TICKETS \nFrequent Flyers Aerial Dance literally soars to the music of Jon Batiste’s latest album Beethoven Blues. The performance blends aerial arts with balletic\, contemporary and jazzy dance styles. The cast of 8 performers brings this beautiful performance to fruition on dance trapeze\, aerial silks\, lyra\, and invented apparatus in this 65-minute show.\nArtistic Direction: Nancy Smith\nChoreography: Laurel Johnson\, Whitney Moore\, Valerie Morris\, and Nancy Smith\nPerformer / Collaborators: Caroline Butcher\, Laurel Johnson\, Mira Kaplan\, Anna Mayer\, Whitney Moore\, Valerie Morris\, Anna Pillot\, and Nancy Smith\ninfo: http://www.frequentflyers.org/professional-company/
URL:https://staging.thedairy.org/event/beethoven-blues-frequent-flyers-soars-to-the-music-of-jon-batiste/2025-05-02/
LOCATION:Gordon Gamm Theater\, Walnut Street\, Boulder\, CO\, 80302\, United States
CATEGORIES:Dance
ATTACH;FMTTYPE=image/png:https://media.thedairy.org/wp-content/uploads/2025/03/19075813/BB.DairyFeatured1080x1350.png
GEO:40.0193115;-105.261067
X-APPLE-STRUCTURED-LOCATION;VALUE=URI;X-ADDRESS=Gordon Gamm Theater Walnut Street Boulder CO 80302 United States;X-APPLE-RADIUS=500;X-TITLE=Walnut Street:geo:-105.261067,40.0193115
END:VEVENT
BEGIN:VEVENT
DTSTART;TZID=America/Denver:20250503T193000
DTEND;TZID=America/Denver:20250503T210000
DTSTAMP:20260420T031341
CREATED:20250319T135908Z
LAST-MODIFIED:20250416T220957Z
UID:10006095-1746300600-1746306000@staging.thedairy.org
SUMMARY:Beethoven Blues: Frequent Flyers Soars to the Music of Jon Batiste
DESCRIPTION:TICKETS \nFrequent Flyers Aerial Dance literally soars to the music of Jon Batiste’s latest album Beethoven Blues. The performance blends aerial arts with balletic\, contemporary and jazzy dance styles. The cast of 8 performers brings this beautiful performance to fruition on dance trapeze\, aerial silks\, lyra\, and invented apparatus in this 65-minute show.\nArtistic Direction: Nancy Smith\nChoreography: Laurel Johnson\, Whitney Moore\, Valerie Morris\, and Nancy Smith\nPerformer / Collaborators: Caroline Butcher\, Laurel Johnson\, Mira Kaplan\, Anna Mayer\, Whitney Moore\, Valerie Morris\, Anna Pillot\, and Nancy Smith\ninfo: http://www.frequentflyers.org/professional-company/
URL:https://staging.thedairy.org/event/beethoven-blues-frequent-flyers-soars-to-the-music-of-jon-batiste/2025-05-03/
LOCATION:Gordon Gamm Theater\, Walnut Street\, Boulder\, CO\, 80302\, United States
CATEGORIES:Dance
ATTACH;FMTTYPE=image/png:https://media.thedairy.org/wp-content/uploads/2025/03/19075813/BB.DairyFeatured1080x1350.png
GEO:40.0193115;-105.261067
X-APPLE-STRUCTURED-LOCATION;VALUE=URI;X-ADDRESS=Gordon Gamm Theater Walnut Street Boulder CO 80302 United States;X-APPLE-RADIUS=500;X-TITLE=Walnut Street:geo:-105.261067,40.0193115
END:VEVENT
END:VCALENDAR