BEGIN:VCALENDAR
VERSION:2.0
PRODID:-//Dairy Arts Center - ECPv6.15.20//NONSGML v1.0//EN
CALSCALE:GREGORIAN
METHOD:PUBLISH
X-WR-CALNAME:Dairy Arts Center
X-ORIGINAL-URL:https://staging.thedairy.org
X-WR-CALDESC:Events for Dairy Arts Center
REFRESH-INTERVAL;VALUE=DURATION:PT1H
X-Robots-Tag:noindex
X-PUBLISHED-TTL:PT1H
BEGIN:VTIMEZONE
TZID:America/Denver
BEGIN:DAYLIGHT
TZOFFSETFROM:-0700
TZOFFSETTO:-0600
TZNAME:MDT
DTSTART:20240310T090000
END:DAYLIGHT
BEGIN:STANDARD
TZOFFSETFROM:-0600
TZOFFSETTO:-0700
TZNAME:MST
DTSTART:20241103T080000
END:STANDARD
BEGIN:DAYLIGHT
TZOFFSETFROM:-0700
TZOFFSETTO:-0600
TZNAME:MDT
DTSTART:20250309T090000
END:DAYLIGHT
BEGIN:STANDARD
TZOFFSETFROM:-0600
TZOFFSETTO:-0700
TZNAME:MST
DTSTART:20251102T080000
END:STANDARD
BEGIN:DAYLIGHT
TZOFFSETFROM:-0700
TZOFFSETTO:-0600
TZNAME:MDT
DTSTART:20260308T090000
END:DAYLIGHT
BEGIN:STANDARD
TZOFFSETFROM:-0600
TZOFFSETTO:-0700
TZNAME:MST
DTSTART:20261101T080000
END:STANDARD
END:VTIMEZONE
BEGIN:VEVENT
DTSTART;TZID=America/Denver:20250516T190000
DTEND;TZID=America/Denver:20250516T203000
DTSTAMP:20260420T055809
CREATED:20240605T224405Z
LAST-MODIFIED:20250423T171114Z
UID:10004887-1747422000-1747427400@staging.thedairy.org
SUMMARY:Boulder Ballet: Queen of Hearts
DESCRIPTION:Tickets\nYou may know the story of Alice in Wonderland\, but what do we really know about the origin of the Queen of Hearts? This unique twist on Lewis Carroll’s classic tale will take you on a whimsical journey that is full of adventure\, drama\, and a healthy dose of fun. Queen of Hearts will be a delicious treat for the entire family.
URL:https://staging.thedairy.org/event/boulder-ballet-queen-of-hearts/2025-05-16/
LOCATION:Gordon Gamm Theater\, Walnut Street\, Boulder\, CO\, 80302\, United States
CATEGORIES:Dance
ATTACH;FMTTYPE=image/png:https://media.thedairy.org/wp-content/uploads/2024/06/23111041/Email-Images-9.png
GEO:40.0193115;-105.261067
X-APPLE-STRUCTURED-LOCATION;VALUE=URI;X-ADDRESS=Gordon Gamm Theater Walnut Street Boulder CO 80302 United States;X-APPLE-RADIUS=500;X-TITLE=Walnut Street:geo:-105.261067,40.0193115
END:VEVENT
BEGIN:VEVENT
DTSTART;TZID=America/Denver:20250517T140000
DTEND;TZID=America/Denver:20250517T153000
DTSTAMP:20260420T055809
CREATED:20240605T224405Z
LAST-MODIFIED:20250423T171114Z
UID:10004888-1747490400-1747495800@staging.thedairy.org
SUMMARY:Boulder Ballet: Queen of Hearts
DESCRIPTION:Tickets\nYou may know the story of Alice in Wonderland\, but what do we really know about the origin of the Queen of Hearts? This unique twist on Lewis Carroll’s classic tale will take you on a whimsical journey that is full of adventure\, drama\, and a healthy dose of fun. Queen of Hearts will be a delicious treat for the entire family.
URL:https://staging.thedairy.org/event/boulder-ballet-queen-of-hearts/2025-05-17/1/
LOCATION:Gordon Gamm Theater\, Walnut Street\, Boulder\, CO\, 80302\, United States
CATEGORIES:Dance
ATTACH;FMTTYPE=image/png:https://media.thedairy.org/wp-content/uploads/2024/06/23111041/Email-Images-9.png
GEO:40.0193115;-105.261067
X-APPLE-STRUCTURED-LOCATION;VALUE=URI;X-ADDRESS=Gordon Gamm Theater Walnut Street Boulder CO 80302 United States;X-APPLE-RADIUS=500;X-TITLE=Walnut Street:geo:-105.261067,40.0193115
END:VEVENT
BEGIN:VEVENT
DTSTART;TZID=America/Denver:20250517T190000
DTEND;TZID=America/Denver:20250517T203000
DTSTAMP:20260420T055809
CREATED:20240605T224405Z
LAST-MODIFIED:20250423T171114Z
UID:10004889-1747508400-1747513800@staging.thedairy.org
SUMMARY:Boulder Ballet: Queen of Hearts
DESCRIPTION:Tickets\nYou may know the story of Alice in Wonderland\, but what do we really know about the origin of the Queen of Hearts? This unique twist on Lewis Carroll’s classic tale will take you on a whimsical journey that is full of adventure\, drama\, and a healthy dose of fun. Queen of Hearts will be a delicious treat for the entire family.
URL:https://staging.thedairy.org/event/boulder-ballet-queen-of-hearts/2025-05-17/2/
LOCATION:Gordon Gamm Theater\, Walnut Street\, Boulder\, CO\, 80302\, United States
CATEGORIES:Dance
ATTACH;FMTTYPE=image/png:https://media.thedairy.org/wp-content/uploads/2024/06/23111041/Email-Images-9.png
GEO:40.0193115;-105.261067
X-APPLE-STRUCTURED-LOCATION;VALUE=URI;X-ADDRESS=Gordon Gamm Theater Walnut Street Boulder CO 80302 United States;X-APPLE-RADIUS=500;X-TITLE=Walnut Street:geo:-105.261067,40.0193115
END:VEVENT
END:VCALENDAR