BEGIN:VCALENDAR
VERSION:2.0
PRODID:-//Dairy Arts Center - ECPv6.15.20//NONSGML v1.0//EN
CALSCALE:GREGORIAN
METHOD:PUBLISH
X-WR-CALNAME:Dairy Arts Center
X-ORIGINAL-URL:https://staging.thedairy.org
X-WR-CALDESC:Events for Dairy Arts Center
REFRESH-INTERVAL;VALUE=DURATION:PT1H
X-Robots-Tag:noindex
X-PUBLISHED-TTL:PT1H
BEGIN:VTIMEZONE
TZID:America/Denver
BEGIN:DAYLIGHT
TZOFFSETFROM:-0700
TZOFFSETTO:-0600
TZNAME:MDT
DTSTART:20240310T090000
END:DAYLIGHT
BEGIN:STANDARD
TZOFFSETFROM:-0600
TZOFFSETTO:-0700
TZNAME:MST
DTSTART:20241103T080000
END:STANDARD
BEGIN:DAYLIGHT
TZOFFSETFROM:-0700
TZOFFSETTO:-0600
TZNAME:MDT
DTSTART:20250309T090000
END:DAYLIGHT
BEGIN:STANDARD
TZOFFSETFROM:-0600
TZOFFSETTO:-0700
TZNAME:MST
DTSTART:20251102T080000
END:STANDARD
BEGIN:DAYLIGHT
TZOFFSETFROM:-0700
TZOFFSETTO:-0600
TZNAME:MDT
DTSTART:20260308T090000
END:DAYLIGHT
BEGIN:STANDARD
TZOFFSETFROM:-0600
TZOFFSETTO:-0700
TZNAME:MST
DTSTART:20261101T080000
END:STANDARD
END:VTIMEZONE
BEGIN:VEVENT
DTSTART;TZID=America/Denver:20250518T140000
DTEND;TZID=America/Denver:20250518T153000
DTSTAMP:20260420T073202
CREATED:20240605T224405Z
LAST-MODIFIED:20250423T171114Z
UID:10004890-1747576800-1747582200@staging.thedairy.org
SUMMARY:Boulder Ballet: Queen of Hearts
DESCRIPTION:Tickets\nYou may know the story of Alice in Wonderland\, but what do we really know about the origin of the Queen of Hearts? This unique twist on Lewis Carroll’s classic tale will take you on a whimsical journey that is full of adventure\, drama\, and a healthy dose of fun. Queen of Hearts will be a delicious treat for the entire family.
URL:https://staging.thedairy.org/event/boulder-ballet-queen-of-hearts/2025-05-18/
LOCATION:Gordon Gamm Theater\, Walnut Street\, Boulder\, CO\, 80302\, United States
CATEGORIES:Dance
ATTACH;FMTTYPE=image/png:https://media.thedairy.org/wp-content/uploads/2024/06/23111041/Email-Images-9.png
GEO:40.0193115;-105.261067
X-APPLE-STRUCTURED-LOCATION;VALUE=URI;X-ADDRESS=Gordon Gamm Theater Walnut Street Boulder CO 80302 United States;X-APPLE-RADIUS=500;X-TITLE=Walnut Street:geo:-105.261067,40.0193115
END:VEVENT
BEGIN:VEVENT
DTSTART;TZID=America/Denver:20250520T183000
DTEND;TZID=America/Denver:20250520T193000
DTSTAMP:20260420T073202
CREATED:20250325T201804Z
LAST-MODIFIED:20250325T201805Z
UID:10006313-1747765800-1747769400@staging.thedairy.org
SUMMARY:Boulder Ballet School's Spring Showcase
DESCRIPTION:TICKETS \nBoulder Ballet School students are always so proud to demonstrate all they have learned throughout the school year. Dancers perform alongside their classmates and showcase not only their growth in technique\, but also their musicality\, spatial awareness\, ability to dance in groups\, and artistry. Students may present different dance pieces including ballet\, jazz/musical theater\, contemporary\, variations\, and more!
URL:https://staging.thedairy.org/event/boulder-ballet-schools-spring-showcase/2025-05-20/
LOCATION:Gordon Gamm Theater\, Walnut Street\, Boulder\, CO\, 80302\, United States
CATEGORIES:Dance
ATTACH;FMTTYPE=image/png:https://media.thedairy.org/wp-content/uploads/2025/03/25141457/bbsmarketing25_000055.png
GEO:40.0193115;-105.261067
X-APPLE-STRUCTURED-LOCATION;VALUE=URI;X-ADDRESS=Gordon Gamm Theater Walnut Street Boulder CO 80302 United States;X-APPLE-RADIUS=500;X-TITLE=Walnut Street:geo:-105.261067,40.0193115
END:VEVENT
BEGIN:VEVENT
DTSTART;TZID=America/Denver:20250521T183000
DTEND;TZID=America/Denver:20250521T193000
DTSTAMP:20260420T073202
CREATED:20250325T201804Z
LAST-MODIFIED:20250325T201805Z
UID:10006314-1747852200-1747855800@staging.thedairy.org
SUMMARY:Boulder Ballet School's Spring Showcase
DESCRIPTION:TICKETS \nBoulder Ballet School students are always so proud to demonstrate all they have learned throughout the school year. Dancers perform alongside their classmates and showcase not only their growth in technique\, but also their musicality\, spatial awareness\, ability to dance in groups\, and artistry. Students may present different dance pieces including ballet\, jazz/musical theater\, contemporary\, variations\, and more!
URL:https://staging.thedairy.org/event/boulder-ballet-schools-spring-showcase/2025-05-21/
LOCATION:Gordon Gamm Theater\, Walnut Street\, Boulder\, CO\, 80302\, United States
CATEGORIES:Dance
ATTACH;FMTTYPE=image/png:https://media.thedairy.org/wp-content/uploads/2025/03/25141457/bbsmarketing25_000055.png
GEO:40.0193115;-105.261067
X-APPLE-STRUCTURED-LOCATION;VALUE=URI;X-ADDRESS=Gordon Gamm Theater Walnut Street Boulder CO 80302 United States;X-APPLE-RADIUS=500;X-TITLE=Walnut Street:geo:-105.261067,40.0193115
END:VEVENT
BEGIN:VEVENT
DTSTART;TZID=America/Denver:20250523T183000
DTEND;TZID=America/Denver:20250523T193000
DTSTAMP:20260420T073202
CREATED:20250325T201804Z
LAST-MODIFIED:20250325T201805Z
UID:10006315-1748025000-1748028600@staging.thedairy.org
SUMMARY:Boulder Ballet School's Spring Showcase
DESCRIPTION:TICKETS \nBoulder Ballet School students are always so proud to demonstrate all they have learned throughout the school year. Dancers perform alongside their classmates and showcase not only their growth in technique\, but also their musicality\, spatial awareness\, ability to dance in groups\, and artistry. Students may present different dance pieces including ballet\, jazz/musical theater\, contemporary\, variations\, and more!
URL:https://staging.thedairy.org/event/boulder-ballet-schools-spring-showcase/2025-05-23/
LOCATION:Gordon Gamm Theater\, Walnut Street\, Boulder\, CO\, 80302\, United States
CATEGORIES:Dance
ATTACH;FMTTYPE=image/png:https://media.thedairy.org/wp-content/uploads/2025/03/25141457/bbsmarketing25_000055.png
GEO:40.0193115;-105.261067
X-APPLE-STRUCTURED-LOCATION;VALUE=URI;X-ADDRESS=Gordon Gamm Theater Walnut Street Boulder CO 80302 United States;X-APPLE-RADIUS=500;X-TITLE=Walnut Street:geo:-105.261067,40.0193115
END:VEVENT
BEGIN:VEVENT
DTSTART;TZID=America/Denver:20250524T120000
DTEND;TZID=America/Denver:20250524T130000
DTSTAMP:20260420T073202
CREATED:20250325T201804Z
LAST-MODIFIED:20250325T201805Z
UID:10006316-1748088000-1748091600@staging.thedairy.org
SUMMARY:Boulder Ballet School's Spring Showcase
DESCRIPTION:TICKETS \nBoulder Ballet School students are always so proud to demonstrate all they have learned throughout the school year. Dancers perform alongside their classmates and showcase not only their growth in technique\, but also their musicality\, spatial awareness\, ability to dance in groups\, and artistry. Students may present different dance pieces including ballet\, jazz/musical theater\, contemporary\, variations\, and more!
URL:https://staging.thedairy.org/event/boulder-ballet-schools-spring-showcase/2025-05-24/
LOCATION:Gordon Gamm Theater\, Walnut Street\, Boulder\, CO\, 80302\, United States
CATEGORIES:Dance
ATTACH;FMTTYPE=image/png:https://media.thedairy.org/wp-content/uploads/2025/03/25141457/bbsmarketing25_000055.png
GEO:40.0193115;-105.261067
X-APPLE-STRUCTURED-LOCATION;VALUE=URI;X-ADDRESS=Gordon Gamm Theater Walnut Street Boulder CO 80302 United States;X-APPLE-RADIUS=500;X-TITLE=Walnut Street:geo:-105.261067,40.0193115
END:VEVENT
END:VCALENDAR