BEGIN:VCALENDAR
VERSION:2.0
PRODID:-//Dairy Arts Center - ECPv6.15.20//NONSGML v1.0//EN
CALSCALE:GREGORIAN
METHOD:PUBLISH
X-WR-CALNAME:Dairy Arts Center
X-ORIGINAL-URL:https://staging.thedairy.org
X-WR-CALDESC:Events for Dairy Arts Center
REFRESH-INTERVAL;VALUE=DURATION:PT1H
X-Robots-Tag:noindex
X-PUBLISHED-TTL:PT1H
BEGIN:VTIMEZONE
TZID:America/Denver
BEGIN:DAYLIGHT
TZOFFSETFROM:-0700
TZOFFSETTO:-0600
TZNAME:MDT
DTSTART:20240310T090000
END:DAYLIGHT
BEGIN:STANDARD
TZOFFSETFROM:-0600
TZOFFSETTO:-0700
TZNAME:MST
DTSTART:20241103T080000
END:STANDARD
BEGIN:DAYLIGHT
TZOFFSETFROM:-0700
TZOFFSETTO:-0600
TZNAME:MDT
DTSTART:20250309T090000
END:DAYLIGHT
BEGIN:STANDARD
TZOFFSETFROM:-0600
TZOFFSETTO:-0700
TZNAME:MST
DTSTART:20251102T080000
END:STANDARD
BEGIN:DAYLIGHT
TZOFFSETFROM:-0700
TZOFFSETTO:-0600
TZNAME:MDT
DTSTART:20260308T090000
END:DAYLIGHT
BEGIN:STANDARD
TZOFFSETFROM:-0600
TZOFFSETTO:-0700
TZNAME:MST
DTSTART:20261101T080000
END:STANDARD
END:VTIMEZONE
BEGIN:VEVENT
DTSTART;TZID=America/Denver:20250530T200000
DTEND;TZID=America/Denver:20250530T230000
DTSTAMP:20260420T043420
CREATED:20250421T163708Z
LAST-MODIFIED:20250421T163708Z
UID:10006418-1748635200-1748646000@staging.thedairy.org
SUMMARY:Havana Nights: Marcela's Birthday Celebration
DESCRIPTION:TICKETS \n\nMusic by: DJ Diva (First time at Havana Nights)\nSpecial Celebration: Marcela’s Birthday!\nHavana Nights only happens twice a year in the beautiful lobby of the Dairy Arts Center\, so don’t miss your chance to dance the night away to the best Cuban salsa beats. Let’s make this a night to remember!\nMarcela says “I would love to celebrate my special day with all of you and my great friend Rick Newman who is also a Gemini!”\nWe will have some cake and delicious snacks to celebrate both birthdays!!\nBar Available\nSpread the word\, bring your energy\, and let’s celebrate at Havana Nights!! \nSee you on the dance floor!
URL:https://staging.thedairy.org/event/havana-nights-marcelas-birthday-celebration/
LOCATION:Dairy Arts Center\, Walnut Street\, Boulder\, CO\, 80302\, United States
CATEGORIES:Dance
ATTACH;FMTTYPE=image/jpeg:https://media.thedairy.org/wp-content/uploads/2025/04/21103553/Havana-Nights-May-30.jpg
GEO:40.0193115;-105.261067
X-APPLE-STRUCTURED-LOCATION;VALUE=URI;X-ADDRESS=Dairy Arts Center Walnut Street Boulder CO 80302 United States;X-APPLE-RADIUS=500;X-TITLE=Walnut Street:geo:-105.261067,40.0193115
END:VEVENT
END:VCALENDAR