BEGIN:VCALENDAR
VERSION:2.0
PRODID:-//Dairy Arts Center - ECPv6.15.20//NONSGML v1.0//EN
CALSCALE:GREGORIAN
METHOD:PUBLISH
X-ORIGINAL-URL:https://staging.thedairy.org
X-WR-CALDESC:Events for Dairy Arts Center
REFRESH-INTERVAL;VALUE=DURATION:PT1H
X-Robots-Tag:noindex
X-PUBLISHED-TTL:PT1H
BEGIN:VTIMEZONE
TZID:America/Denver
BEGIN:DAYLIGHT
TZOFFSETFROM:-0700
TZOFFSETTO:-0600
TZNAME:MDT
DTSTART:20240310T090000
END:DAYLIGHT
BEGIN:STANDARD
TZOFFSETFROM:-0600
TZOFFSETTO:-0700
TZNAME:MST
DTSTART:20241103T080000
END:STANDARD
BEGIN:DAYLIGHT
TZOFFSETFROM:-0700
TZOFFSETTO:-0600
TZNAME:MDT
DTSTART:20250309T090000
END:DAYLIGHT
BEGIN:STANDARD
TZOFFSETFROM:-0600
TZOFFSETTO:-0700
TZNAME:MST
DTSTART:20251102T080000
END:STANDARD
BEGIN:DAYLIGHT
TZOFFSETFROM:-0700
TZOFFSETTO:-0600
TZNAME:MDT
DTSTART:20260308T090000
END:DAYLIGHT
BEGIN:STANDARD
TZOFFSETFROM:-0600
TZOFFSETTO:-0700
TZNAME:MST
DTSTART:20261101T080000
END:STANDARD
END:VTIMEZONE
BEGIN:VEVENT
DTSTART;TZID=America/Denver:20250628T170000
DTEND;TZID=America/Denver:20250628T180000
DTSTAMP:20260419T182222
CREATED:20250313T201337Z
LAST-MODIFIED:20250610T175947Z
UID:10006090-1751130000-1751133600@staging.thedairy.org
SUMMARY:The p(art) Project Professional Intensive Performance
DESCRIPTION:TICKETS \nThe p(art) Project presents The 2025 Professional Intensive’s final work.\nChoreographed by Kelly Demelio\, this product of work has come to fruition through an extensive creative process\, meaningful conversations and emotional connection through movement. \nWe will also be debuting the creative works of guest artists\, Vickie Roan\, Carly Olson\, Kaden Johns\, Tara Yax and Nick Serian. \nThank you for supporting p(art). We hope that you enjoy our show! \n 
URL:https://staging.thedairy.org/event/the-part-project-professional-intensive-performance/2025-06-28/1/
LOCATION:Grace Gamm Theatre\, Walnut Street\, Boulder\, CO\, 80302\, United States
CATEGORIES:Dance
ATTACH;FMTTYPE=image/png:https://media.thedairy.org/wp-content/uploads/2025/03/13140701/Part-project.png
GEO:40.0193115;-105.261067
X-APPLE-STRUCTURED-LOCATION;VALUE=URI;X-ADDRESS=Grace Gamm Theatre Walnut Street Boulder CO 80302 United States;X-APPLE-RADIUS=500;X-TITLE=Walnut Street:geo:-105.261067,40.0193115
END:VEVENT
BEGIN:VEVENT
DTSTART;TZID=America/Denver:20250628T190000
DTEND;TZID=America/Denver:20250628T200000
DTSTAMP:20260419T182222
CREATED:20250313T201337Z
LAST-MODIFIED:20250610T175947Z
UID:10006091-1751137200-1751140800@staging.thedairy.org
SUMMARY:The p(art) Project Professional Intensive Performance
DESCRIPTION:TICKETS \nThe p(art) Project presents The 2025 Professional Intensive’s final work.\nChoreographed by Kelly Demelio\, this product of work has come to fruition through an extensive creative process\, meaningful conversations and emotional connection through movement. \nWe will also be debuting the creative works of guest artists\, Vickie Roan\, Carly Olson\, Kaden Johns\, Tara Yax and Nick Serian. \nThank you for supporting p(art). We hope that you enjoy our show! \n 
URL:https://staging.thedairy.org/event/the-part-project-professional-intensive-performance/2025-06-28/2/
LOCATION:Grace Gamm Theatre\, Walnut Street\, Boulder\, CO\, 80302\, United States
CATEGORIES:Dance
ATTACH;FMTTYPE=image/png:https://media.thedairy.org/wp-content/uploads/2025/03/13140701/Part-project.png
GEO:40.0193115;-105.261067
X-APPLE-STRUCTURED-LOCATION;VALUE=URI;X-ADDRESS=Grace Gamm Theatre Walnut Street Boulder CO 80302 United States;X-APPLE-RADIUS=500;X-TITLE=Walnut Street:geo:-105.261067,40.0193115
END:VEVENT
END:VCALENDAR