BEGIN:VCALENDAR
VERSION:2.0
PRODID:-//Dairy Arts Center - ECPv6.15.20//NONSGML v1.0//EN
CALSCALE:GREGORIAN
METHOD:PUBLISH
X-WR-CALNAME:Dairy Arts Center
X-ORIGINAL-URL:https://staging.thedairy.org
X-WR-CALDESC:Events for Dairy Arts Center
REFRESH-INTERVAL;VALUE=DURATION:PT1H
X-Robots-Tag:noindex
X-PUBLISHED-TTL:PT1H
BEGIN:VTIMEZONE
TZID:America/Denver
BEGIN:DAYLIGHT
TZOFFSETFROM:-0700
TZOFFSETTO:-0600
TZNAME:MDT
DTSTART:20240310T090000
END:DAYLIGHT
BEGIN:STANDARD
TZOFFSETFROM:-0600
TZOFFSETTO:-0700
TZNAME:MST
DTSTART:20241103T080000
END:STANDARD
BEGIN:DAYLIGHT
TZOFFSETFROM:-0700
TZOFFSETTO:-0600
TZNAME:MDT
DTSTART:20250309T090000
END:DAYLIGHT
BEGIN:STANDARD
TZOFFSETFROM:-0600
TZOFFSETTO:-0700
TZNAME:MST
DTSTART:20251102T080000
END:STANDARD
BEGIN:DAYLIGHT
TZOFFSETFROM:-0700
TZOFFSETTO:-0600
TZNAME:MDT
DTSTART:20260308T090000
END:DAYLIGHT
BEGIN:STANDARD
TZOFFSETFROM:-0600
TZOFFSETTO:-0700
TZNAME:MST
DTSTART:20261101T080000
END:STANDARD
END:VTIMEZONE
BEGIN:VEVENT
DTSTART;TZID=America/Denver:20250712T160000
DTEND;TZID=America/Denver:20250712T170000
DTSTAMP:20260419T181304
CREATED:20250624T174718Z
LAST-MODIFIED:20250624T181637Z
UID:10006812-1752336000-1752339600@staging.thedairy.org
SUMMARY:Boulder Jazz Dance Workshop Youth Performance
DESCRIPTION:TICKETS\nCome celebrate the energy and artistry of our youngest dancers at the Boulder Jazz Dance Youth Workshop Performance! Over five exciting days\, dancers ages 7–18 train intensively and learn original repertory from our outstanding faculty. This culminating showcase features the pieces they’ve developed during the workshop\, highlighting their progress\, creativity\, and passion for dance. A joyful and inspiring performance for families\, friends\, and community dance lovers of all ages.
URL:https://staging.thedairy.org/event/boulder-jazz-dance-workshop-youth-performance/
LOCATION:Gordon Gamm Theater\, Walnut Street\, Boulder\, CO\, 80302\, United States
CATEGORIES:Dance
ATTACH;FMTTYPE=image/png:https://media.thedairy.org/wp-content/uploads/2025/06/24114606/bjdw-youth-diary-1-1-scaled.png
GEO:40.0193115;-105.261067
X-APPLE-STRUCTURED-LOCATION;VALUE=URI;X-ADDRESS=Gordon Gamm Theater Walnut Street Boulder CO 80302 United States;X-APPLE-RADIUS=500;X-TITLE=Walnut Street:geo:-105.261067,40.0193115
END:VEVENT
END:VCALENDAR