BEGIN:VCALENDAR
VERSION:2.0
PRODID:-//Dairy Arts Center - ECPv6.15.20//NONSGML v1.0//EN
CALSCALE:GREGORIAN
METHOD:PUBLISH
X-ORIGINAL-URL:https://staging.thedairy.org
X-WR-CALDESC:Events for Dairy Arts Center
REFRESH-INTERVAL;VALUE=DURATION:PT1H
X-Robots-Tag:noindex
X-PUBLISHED-TTL:PT1H
BEGIN:VTIMEZONE
TZID:America/Denver
BEGIN:DAYLIGHT
TZOFFSETFROM:-0700
TZOFFSETTO:-0600
TZNAME:MDT
DTSTART:20240310T090000
END:DAYLIGHT
BEGIN:STANDARD
TZOFFSETFROM:-0600
TZOFFSETTO:-0700
TZNAME:MST
DTSTART:20241103T080000
END:STANDARD
BEGIN:DAYLIGHT
TZOFFSETFROM:-0700
TZOFFSETTO:-0600
TZNAME:MDT
DTSTART:20250309T090000
END:DAYLIGHT
BEGIN:STANDARD
TZOFFSETFROM:-0600
TZOFFSETTO:-0700
TZNAME:MST
DTSTART:20251102T080000
END:STANDARD
BEGIN:DAYLIGHT
TZOFFSETFROM:-0700
TZOFFSETTO:-0600
TZNAME:MDT
DTSTART:20260308T090000
END:DAYLIGHT
BEGIN:STANDARD
TZOFFSETFROM:-0600
TZOFFSETTO:-0700
TZNAME:MST
DTSTART:20261101T080000
END:STANDARD
END:VTIMEZONE
BEGIN:VEVENT
DTSTART;TZID=America/Denver:20250422T190000
DTEND;TZID=America/Denver:20250422T203000
DTSTAMP:20260420T155117
CREATED:20250226T215405Z
LAST-MODIFIED:20250228T141928Z
UID:10006064-1745348400-1745353800@staging.thedairy.org
SUMMARY:Musical Vanguards at the Dairy presents: YAGÓDY
DESCRIPTION:Tickets\nCo-presented by Sunflower Seeds Ukraine \nWith primal percussion\, hypnotic vocal harmonies and immersive ethno-drama performances\, Ukrainian folk group YAGÓDY brings their mesmerizing sound to North America for the first time this spring. \nThe four women of YAGÓDY are on a mission to preserve their culture by both reviving and reinterpreting folk songs while donning traditional clothing and costumes like the ornately embroidered Vyshyvanka. Sometimes heartbreaking and often rebellious\, YAGÓDY’s music is a testament to the land\, and spirit of the people of Ukraine. They poetically describe their concerts as\, “the songs of wild tribes. This is the voice of your ancestors. This is live energy. It is a dance with voices. This is how our nature smells. This is how our blood sounds.” \nThe self-titled debut album\, YAGÓDY\, released in 2020 introduced the world to their unique sound\, featuring powerful renditions of Ukrainian\, Bulgarian\, and Serbian folk songs. In 2024\, the group won over audiences at the Eurovision Songwriting Contest with their original song “Tsunamia” placing fifth at the national selection finals.\nYAGÓDY has performed at major festivals across Europe\, enchanting listeners in Poland\, Germany\, and beyond and are set to spread their rich history through vibrant concerts across North America.
URL:https://staging.thedairy.org/event/musical-vanguards-at-the-dairy-presents-yagody/
LOCATION:Gordon Gamm Theater\, Walnut Street\, Boulder\, CO\, 80302\, United States
CATEGORIES:Music,Musical Vanguards,Student Rush Tickets
ATTACH;FMTTYPE=image/jpeg:https://media.thedairy.org/wp-content/uploads/2025/02/28071920/YAGODY-4x5-V2.jpg
GEO:40.0193115;-105.261067
X-APPLE-STRUCTURED-LOCATION;VALUE=URI;X-ADDRESS=Gordon Gamm Theater Walnut Street Boulder CO 80302 United States;X-APPLE-RADIUS=500;X-TITLE=Walnut Street:geo:-105.261067,40.0193115
END:VEVENT
END:VCALENDAR