BEGIN:VCALENDAR
VERSION:2.0
PRODID:-//Dairy Arts Center - ECPv6.15.20//NONSGML v1.0//EN
CALSCALE:GREGORIAN
METHOD:PUBLISH
X-ORIGINAL-URL:https://staging.thedairy.org
X-WR-CALDESC:Events for Dairy Arts Center
REFRESH-INTERVAL;VALUE=DURATION:PT1H
X-Robots-Tag:noindex
X-PUBLISHED-TTL:PT1H
BEGIN:VTIMEZONE
TZID:America/Denver
BEGIN:DAYLIGHT
TZOFFSETFROM:-0700
TZOFFSETTO:-0600
TZNAME:MDT
DTSTART:20240310T090000
END:DAYLIGHT
BEGIN:STANDARD
TZOFFSETFROM:-0600
TZOFFSETTO:-0700
TZNAME:MST
DTSTART:20241103T080000
END:STANDARD
BEGIN:DAYLIGHT
TZOFFSETFROM:-0700
TZOFFSETTO:-0600
TZNAME:MDT
DTSTART:20250309T090000
END:DAYLIGHT
BEGIN:STANDARD
TZOFFSETFROM:-0600
TZOFFSETTO:-0700
TZNAME:MST
DTSTART:20251102T080000
END:STANDARD
BEGIN:DAYLIGHT
TZOFFSETFROM:-0700
TZOFFSETTO:-0600
TZNAME:MDT
DTSTART:20260308T090000
END:DAYLIGHT
BEGIN:STANDARD
TZOFFSETFROM:-0600
TZOFFSETTO:-0700
TZNAME:MST
DTSTART:20261101T080000
END:STANDARD
END:VTIMEZONE
BEGIN:VEVENT
DTSTART;TZID=America/Denver:20250605T170000
DTEND;TZID=America/Denver:20250605T190000
DTSTAMP:20260419T182235
CREATED:20241025T231831Z
LAST-MODIFIED:20250903T201219Z
UID:10006331-1749142800-1749150000@staging.thedairy.org
SUMMARY:Happy Hour Draft Exchange
DESCRIPTION:The Fireside Ink Draft Exchange has moved to a new location! Check www.firesideinkwriters.org for more information. \nOur once-a-month draft exchange is for writers of all genres who are interested in taking their drafts to the next level and joining a community of writers in the spirit of support and accountability. Less rigorous than a workshop\, these exchanges offer the opportunity to share a short piece of writing in real time and receive immediate feedback\, as well as guidance on the multitude of paths to publication. Whether you have specific questions or just need a little encouragement\, join us for this relaxed gathering facilitated by seasoned writers\, Brenda Kahn and/or Loie Rawding. First Thursday of every month\, 5:00-7:00pm. Suggested donation: $20. Limit of 8 Registrants Per Session.
URL:https://staging.thedairy.org/event/happy-hour-draft-exchange/2025-06-05/
LOCATION:CO
CATEGORIES:Adult Ed,Special Events,Writing Workshops
ATTACH;FMTTYPE=image/png:https://media.thedairy.org/wp-content/uploads/2025/05/13105052/2.png
END:VEVENT
BEGIN:VEVENT
DTSTART;TZID=America/Denver:20250615T183000
DTEND;TZID=America/Denver:20250615T200000
DTSTAMP:20260419T182235
CREATED:20250528T165926Z
LAST-MODIFIED:20250528T194551Z
UID:10006667-1750012200-1750017600@staging.thedairy.org
SUMMARY:Slay the Runway- Designing Safe Spaces for Self Expression
DESCRIPTION:TICKETS  \nSlay the Runway is a Firehouse Art Center Fashion Design program offered at no cost to LGBTQIA+ youth and Youth allies to support self expression. Our goal is to be a safe space for teens to explore their own true style in a Gender Expansive and supportive community. \nWith cohorts in Longmont and Boulder\, instructors start with simple projects that improve student sewing and design skills. As confidence builds\, students are challenged to develop their own self identity as they create an outfit for the showcase. At the fashion show\, students unveil something they’ve created in their style and voice while surrounded by a community sharing their life experience. In addition to garment construction and design\, participants will work with make-up artists and choreographers to refine their debuts. While there are fashion camps and sewing classes in the area\, no other local offerings address the issue of safe spaces for gender-expansive youth with this depth of creativity\, and it is the only program that is no cost to participants. \nSlay the Runway’s goal is to create an affirming and accessible space where creativity\, expression\, and positive self-image are celebrated. Involving parents\, youths\, artists\, the LGBTQIA+ community and educators\, we strive to provide access to peer connection\, parent education\, and safe spaces. \nThis program is made possible by SCFD\, the City of Longmont\, OASOS\, CU Boulder\, your donations\, and the never ending enthusiasm and passion of the Slay Team!
URL:https://staging.thedairy.org/event/slay-the-runway/
LOCATION:Gordon Gamm Theater\, Walnut Street\, Boulder\, CO\, 80302\, United States
CATEGORIES:Special Events,Visual Arts
ATTACH;FMTTYPE=image/jpeg:https://media.thedairy.org/wp-content/uploads/2025/05/28105652/INSTA-SLAY-TICKETS-Instagram-Post-45.jpg
GEO:40.0193115;-105.261067
X-APPLE-STRUCTURED-LOCATION;VALUE=URI;X-ADDRESS=Gordon Gamm Theater Walnut Street Boulder CO 80302 United States;X-APPLE-RADIUS=500;X-TITLE=Walnut Street:geo:-105.261067,40.0193115
END:VEVENT
BEGIN:VEVENT
DTSTART;TZID=America/Denver:20250618T150000
DTEND;TZID=America/Denver:20250618T180000
DTSTAMP:20260419T182235
CREATED:20250609T192447Z
LAST-MODIFIED:20250609T194725Z
UID:10006731-1750258800-1750269600@staging.thedairy.org
SUMMARY:The Elusive Quest for Salvation: Lecture and Dialogue Mixer with Dr. Danielle Hodge
DESCRIPTION:REGISTER \nThe Elusive Quest for Salvation\, a culmination of the lectures on love and freedom\, looks to Derrick Bell as a paradigm for creating space ripe for future making. Offering counterstories that question what salvation means\, think through different contours of salvation\, and explore how we may arrive at salvation\, this lecture invites a kind of speculation and imagining that sustains our responsibility to\, as the spiritual says\, ‘see what the end will be.’ \nThis event is part of the Juneteenth Lecture Series with Dr. Danielle Hodge. Each of these lectures invoke African American legal scholar Derrick Bell’s seminal\ncontribution\, And We Are Not Saved: The Elusive Quest for Racial Justice\, by situating love\, freedom\, and salvation as perpetually evasive though necessary in our struggle for liberation. Click here to learn more about the other lectures in the series.\nOrganized by: CU DialoguesCo-Sponsored by: Finance and Business Strategy\, The Center for African and African American Studies\, The College of Media\, Communication\, & Information\, The Department of Communication\, The Center for Teaching and Learning\, The School of Education\, The Dairy Arts Center\, A&S Office for Access & Community Engagement\, and Infrastructure & Resilience Opportunity for Change Committee.
URL:https://staging.thedairy.org/event/the-elusive-quest-for-salvation/
LOCATION:Dairy Arts Center\, Walnut Street\, Boulder\, CO\, 80302\, United States
CATEGORIES:Special Events
ATTACH;FMTTYPE=image/png:https://media.thedairy.org/wp-content/uploads/2025/06/09131443/Screenshot-2025-06-09-at-1.14.13%E2%80%AFPM.png
GEO:40.0193115;-105.261067
X-APPLE-STRUCTURED-LOCATION;VALUE=URI;X-ADDRESS=Dairy Arts Center Walnut Street Boulder CO 80302 United States;X-APPLE-RADIUS=500;X-TITLE=Walnut Street:geo:-105.261067,40.0193115
END:VEVENT
END:VCALENDAR