BEGIN:VCALENDAR
VERSION:2.0
PRODID:-//Dairy Arts Center - ECPv6.15.20//NONSGML v1.0//EN
CALSCALE:GREGORIAN
METHOD:PUBLISH
X-WR-CALNAME:Dairy Arts Center
X-ORIGINAL-URL:https://staging.thedairy.org
X-WR-CALDESC:Events for Dairy Arts Center
REFRESH-INTERVAL;VALUE=DURATION:PT1H
X-Robots-Tag:noindex
X-PUBLISHED-TTL:PT1H
BEGIN:VTIMEZONE
TZID:America/Denver
BEGIN:DAYLIGHT
TZOFFSETFROM:-0700
TZOFFSETTO:-0600
TZNAME:MDT
DTSTART:20240310T090000
END:DAYLIGHT
BEGIN:STANDARD
TZOFFSETFROM:-0600
TZOFFSETTO:-0700
TZNAME:MST
DTSTART:20241103T080000
END:STANDARD
BEGIN:DAYLIGHT
TZOFFSETFROM:-0700
TZOFFSETTO:-0600
TZNAME:MDT
DTSTART:20250309T090000
END:DAYLIGHT
BEGIN:STANDARD
TZOFFSETFROM:-0600
TZOFFSETTO:-0700
TZNAME:MST
DTSTART:20251102T080000
END:STANDARD
BEGIN:DAYLIGHT
TZOFFSETFROM:-0700
TZOFFSETTO:-0600
TZNAME:MDT
DTSTART:20260308T090000
END:DAYLIGHT
BEGIN:STANDARD
TZOFFSETFROM:-0600
TZOFFSETTO:-0700
TZNAME:MST
DTSTART:20261101T080000
END:STANDARD
END:VTIMEZONE
BEGIN:VEVENT
DTSTART;TZID=America/Denver:20250525T140000
DTEND;TZID=America/Denver:20250525T153000
DTSTAMP:20260420T215518
CREATED:20250501T180112Z
LAST-MODIFIED:20250519T164309Z
UID:10006648-1748181600-1748187000@staging.thedairy.org
SUMMARY:The Conversation Part 1: The Israeli-Palestinian Conversation
DESCRIPTION:TICKETS\na play by Ami Dayan\nwith generous input from Sergio Atallah\, the cast\, and many more\nMay 22-31\nThe Conversation is Co-Presented by the Center for Humanities & the Arts\, CU Boulder \nThe Conversation is a 4-part play series set within a community-engagement project that addresses topics considered difficult\, provocative and controversial\, with the aim of finding common ground despite strong conflicting views. The plays dramatize the Center for Humanities & the Arts at CU Boulder’s Difficult Dialogues Series to spark informed and passionately engaged conversations amongst all in attendance\, offering a powerful and unique artistic and socially-engaged experience. \nPart 1: The Israeli-Palestinian Conversation — A live community event born of the belief that – while we may not be able to fix anything\, we certainly cannot fix anything we can’t discuss. \nDirected by Bud Coleman and featuring Elise Collins\, Mark Collins\, Mel Schaffer\, Julia Halaby\, Ami Dayan\, and Sonny Zinn. \nAs the war and humanitarian crisis in Gaza escalates\, and Israeli hostages are still in captivity\, the play gives voice to the conflicting narratives about October 7th\, war crimes\, Two-State versus One State solutions\, America’s role and responsibility\, the rise of Antisemitism and Islamophobia\, the “us or them” conundrum\, ultimately asking\, “Do we want to be proven ‘right’ in never-ending arguments; or ‘wise’ in finding urgently needed solutions?” \nExpect a heated yet productive conversation and a proactive offering for bridging divides. \nA moderated post-show discussion about having difficult conversations will follow each performance. 
URL:https://staging.thedairy.org/event/the-conversation-part-1-the-israeli-palestinian-conversation/2025-05-25/
LOCATION:Carsen Theater\, Walnut Street\, Boulder\, Colorado\, 80302\, United States
CATEGORIES:Student Rush Tickets,Theater
ATTACH;FMTTYPE=image/jpeg:https://media.thedairy.org/wp-content/uploads/2025/05/01115420/The-Conversation-Logo-scaled.jpg
GEO:40.0193115;-105.261067
X-APPLE-STRUCTURED-LOCATION;VALUE=URI;X-ADDRESS=Carsen Theater Walnut Street Boulder Colorado 80302 United States;X-APPLE-RADIUS=500;X-TITLE=Walnut Street:geo:-105.261067,40.0193115
END:VEVENT
BEGIN:VEVENT
DTSTART;TZID=America/Denver:20250529T190000
DTEND;TZID=America/Denver:20250529T203000
DTSTAMP:20260420T215518
CREATED:20250501T180112Z
LAST-MODIFIED:20250519T164309Z
UID:10006562-1748545200-1748550600@staging.thedairy.org
SUMMARY:The Conversation Part 1: The Israeli-Palestinian Conversation
DESCRIPTION:TICKETS\na play by Ami Dayan\nwith generous input from Sergio Atallah\, the cast\, and many more\nMay 22-31\nThe Conversation is Co-Presented by the Center for Humanities & the Arts\, CU Boulder \nThe Conversation is a 4-part play series set within a community-engagement project that addresses topics considered difficult\, provocative and controversial\, with the aim of finding common ground despite strong conflicting views. The plays dramatize the Center for Humanities & the Arts at CU Boulder’s Difficult Dialogues Series to spark informed and passionately engaged conversations amongst all in attendance\, offering a powerful and unique artistic and socially-engaged experience. \nPart 1: The Israeli-Palestinian Conversation — A live community event born of the belief that – while we may not be able to fix anything\, we certainly cannot fix anything we can’t discuss. \nDirected by Bud Coleman and featuring Elise Collins\, Mark Collins\, Mel Schaffer\, Julia Halaby\, Ami Dayan\, and Sonny Zinn. \nAs the war and humanitarian crisis in Gaza escalates\, and Israeli hostages are still in captivity\, the play gives voice to the conflicting narratives about October 7th\, war crimes\, Two-State versus One State solutions\, America’s role and responsibility\, the rise of Antisemitism and Islamophobia\, the “us or them” conundrum\, ultimately asking\, “Do we want to be proven ‘right’ in never-ending arguments; or ‘wise’ in finding urgently needed solutions?” \nExpect a heated yet productive conversation and a proactive offering for bridging divides. \nA moderated post-show discussion about having difficult conversations will follow each performance. 
URL:https://staging.thedairy.org/event/the-conversation-part-1-the-israeli-palestinian-conversation/2025-05-29/
LOCATION:Carsen Theater\, Walnut Street\, Boulder\, Colorado\, 80302\, United States
CATEGORIES:Student Rush Tickets,Theater
ATTACH;FMTTYPE=image/jpeg:https://media.thedairy.org/wp-content/uploads/2025/05/01115420/The-Conversation-Logo-scaled.jpg
GEO:40.0193115;-105.261067
X-APPLE-STRUCTURED-LOCATION;VALUE=URI;X-ADDRESS=Carsen Theater Walnut Street Boulder Colorado 80302 United States;X-APPLE-RADIUS=500;X-TITLE=Walnut Street:geo:-105.261067,40.0193115
END:VEVENT
BEGIN:VEVENT
DTSTART;TZID=America/Denver:20250530T190000
DTEND;TZID=America/Denver:20250530T203000
DTSTAMP:20260420T215518
CREATED:20250501T180112Z
LAST-MODIFIED:20250519T164309Z
UID:10006563-1748631600-1748637000@staging.thedairy.org
SUMMARY:The Conversation Part 1: The Israeli-Palestinian Conversation
DESCRIPTION:TICKETS\na play by Ami Dayan\nwith generous input from Sergio Atallah\, the cast\, and many more\nMay 22-31\nThe Conversation is Co-Presented by the Center for Humanities & the Arts\, CU Boulder \nThe Conversation is a 4-part play series set within a community-engagement project that addresses topics considered difficult\, provocative and controversial\, with the aim of finding common ground despite strong conflicting views. The plays dramatize the Center for Humanities & the Arts at CU Boulder’s Difficult Dialogues Series to spark informed and passionately engaged conversations amongst all in attendance\, offering a powerful and unique artistic and socially-engaged experience. \nPart 1: The Israeli-Palestinian Conversation — A live community event born of the belief that – while we may not be able to fix anything\, we certainly cannot fix anything we can’t discuss. \nDirected by Bud Coleman and featuring Elise Collins\, Mark Collins\, Mel Schaffer\, Julia Halaby\, Ami Dayan\, and Sonny Zinn. \nAs the war and humanitarian crisis in Gaza escalates\, and Israeli hostages are still in captivity\, the play gives voice to the conflicting narratives about October 7th\, war crimes\, Two-State versus One State solutions\, America’s role and responsibility\, the rise of Antisemitism and Islamophobia\, the “us or them” conundrum\, ultimately asking\, “Do we want to be proven ‘right’ in never-ending arguments; or ‘wise’ in finding urgently needed solutions?” \nExpect a heated yet productive conversation and a proactive offering for bridging divides. \nA moderated post-show discussion about having difficult conversations will follow each performance. 
URL:https://staging.thedairy.org/event/the-conversation-part-1-the-israeli-palestinian-conversation/2025-05-30/
LOCATION:Carsen Theater\, Walnut Street\, Boulder\, Colorado\, 80302\, United States
CATEGORIES:Student Rush Tickets,Theater
ATTACH;FMTTYPE=image/jpeg:https://media.thedairy.org/wp-content/uploads/2025/05/01115420/The-Conversation-Logo-scaled.jpg
GEO:40.0193115;-105.261067
X-APPLE-STRUCTURED-LOCATION;VALUE=URI;X-ADDRESS=Carsen Theater Walnut Street Boulder Colorado 80302 United States;X-APPLE-RADIUS=500;X-TITLE=Walnut Street:geo:-105.261067,40.0193115
END:VEVENT
BEGIN:VEVENT
DTSTART;TZID=America/Denver:20250531T190000
DTEND;TZID=America/Denver:20250531T203000
DTSTAMP:20260420T215518
CREATED:20250501T180112Z
LAST-MODIFIED:20250519T164309Z
UID:10006564-1748718000-1748723400@staging.thedairy.org
SUMMARY:The Conversation Part 1: The Israeli-Palestinian Conversation
DESCRIPTION:TICKETS\na play by Ami Dayan\nwith generous input from Sergio Atallah\, the cast\, and many more\nMay 22-31\nThe Conversation is Co-Presented by the Center for Humanities & the Arts\, CU Boulder \nThe Conversation is a 4-part play series set within a community-engagement project that addresses topics considered difficult\, provocative and controversial\, with the aim of finding common ground despite strong conflicting views. The plays dramatize the Center for Humanities & the Arts at CU Boulder’s Difficult Dialogues Series to spark informed and passionately engaged conversations amongst all in attendance\, offering a powerful and unique artistic and socially-engaged experience. \nPart 1: The Israeli-Palestinian Conversation — A live community event born of the belief that – while we may not be able to fix anything\, we certainly cannot fix anything we can’t discuss. \nDirected by Bud Coleman and featuring Elise Collins\, Mark Collins\, Mel Schaffer\, Julia Halaby\, Ami Dayan\, and Sonny Zinn. \nAs the war and humanitarian crisis in Gaza escalates\, and Israeli hostages are still in captivity\, the play gives voice to the conflicting narratives about October 7th\, war crimes\, Two-State versus One State solutions\, America’s role and responsibility\, the rise of Antisemitism and Islamophobia\, the “us or them” conundrum\, ultimately asking\, “Do we want to be proven ‘right’ in never-ending arguments; or ‘wise’ in finding urgently needed solutions?” \nExpect a heated yet productive conversation and a proactive offering for bridging divides. \nA moderated post-show discussion about having difficult conversations will follow each performance. 
URL:https://staging.thedairy.org/event/the-conversation-part-1-the-israeli-palestinian-conversation/2025-05-31/
LOCATION:Carsen Theater\, Walnut Street\, Boulder\, Colorado\, 80302\, United States
CATEGORIES:Student Rush Tickets,Theater
ATTACH;FMTTYPE=image/jpeg:https://media.thedairy.org/wp-content/uploads/2025/05/01115420/The-Conversation-Logo-scaled.jpg
GEO:40.0193115;-105.261067
X-APPLE-STRUCTURED-LOCATION;VALUE=URI;X-ADDRESS=Carsen Theater Walnut Street Boulder Colorado 80302 United States;X-APPLE-RADIUS=500;X-TITLE=Walnut Street:geo:-105.261067,40.0193115
END:VEVENT
END:VCALENDAR