BEGIN:VCALENDAR
VERSION:2.0
PRODID:-//Dairy Arts Center - ECPv6.15.20//NONSGML v1.0//EN
CALSCALE:GREGORIAN
METHOD:PUBLISH
X-ORIGINAL-URL:https://staging.thedairy.org
X-WR-CALDESC:Events for Dairy Arts Center
REFRESH-INTERVAL;VALUE=DURATION:PT1H
X-Robots-Tag:noindex
X-PUBLISHED-TTL:PT1H
BEGIN:VTIMEZONE
TZID:America/Denver
BEGIN:DAYLIGHT
TZOFFSETFROM:-0700
TZOFFSETTO:-0600
TZNAME:MDT
DTSTART:20240310T090000
END:DAYLIGHT
BEGIN:STANDARD
TZOFFSETFROM:-0600
TZOFFSETTO:-0700
TZNAME:MST
DTSTART:20241103T080000
END:STANDARD
BEGIN:DAYLIGHT
TZOFFSETFROM:-0700
TZOFFSETTO:-0600
TZNAME:MDT
DTSTART:20250309T090000
END:DAYLIGHT
BEGIN:STANDARD
TZOFFSETFROM:-0600
TZOFFSETTO:-0700
TZNAME:MST
DTSTART:20251102T080000
END:STANDARD
BEGIN:DAYLIGHT
TZOFFSETFROM:-0700
TZOFFSETTO:-0600
TZNAME:MDT
DTSTART:20260308T090000
END:DAYLIGHT
BEGIN:STANDARD
TZOFFSETFROM:-0600
TZOFFSETTO:-0700
TZNAME:MST
DTSTART:20261101T080000
END:STANDARD
END:VTIMEZONE
BEGIN:VEVENT
DTSTART;TZID=America/Denver:20250907T140000
DTEND;TZID=America/Denver:20250907T160000
DTSTAMP:20260420T004922
CREATED:20250714T173223Z
LAST-MODIFIED:20250730T184447Z
UID:10006872-1757253600-1757260800@staging.thedairy.org
SUMMARY:The Upstart Crow presents "Medea” by Euripides; directed by Katherine Dubois Reed
DESCRIPTION:TICKETS\nMedea’s shock and grief when her husband Jason discards her to marry King Creon’s daughter quickly turns to rage. She vows revenge—but how much revenge is enough? Euripides explores how a person’s pride can lead to deadly recklessness regarding consequences. \nThursdays 8/28 & 9/11 are Name-Your-Price-Nights. Seats are available on a first come\, first served basis. *NO reservations needed & NO ticket needed* – just show up at the Carsen Theater for the show. Donations of any amount are accepted in lieu of purchasing a ticket. \nFor Season Tickets\, please visit: www.TheUpstartCrow.org/Season-Tickets \nCurrent Season Ticket Holders\, please make your reservation at: www.TheUpstartCrow.org/Reservations \nMedea is a powerful revenge play not suitable for children due to violent descriptions.
URL:https://staging.thedairy.org/event/the-upstart-crow-presents-medea-by-euripides-directed-by-katherine-dubois-reed/2025-09-07/
LOCATION:Carsen Theater\, Walnut Street\, Boulder\, Colorado\, 80302\, United States
CATEGORIES:Student Rush Tickets,Theater
ATTACH;FMTTYPE=image/jpeg:https://media.thedairy.org/wp-content/uploads/2025/07/14112837/Medea-graphic.jpg
GEO:40.0193115;-105.261067
X-APPLE-STRUCTURED-LOCATION;VALUE=URI;X-ADDRESS=Carsen Theater Walnut Street Boulder Colorado 80302 United States;X-APPLE-RADIUS=500;X-TITLE=Walnut Street:geo:-105.261067,40.0193115
END:VEVENT
BEGIN:VEVENT
DTSTART;TZID=America/Denver:20250911T190000
DTEND;TZID=America/Denver:20250911T210000
DTSTAMP:20260420T004922
CREATED:20250714T173223Z
LAST-MODIFIED:20250730T184447Z
UID:10006873-1757617200-1757624400@staging.thedairy.org
SUMMARY:The Upstart Crow presents "Medea” by Euripides; directed by Katherine Dubois Reed
DESCRIPTION:TICKETS\nMedea’s shock and grief when her husband Jason discards her to marry King Creon’s daughter quickly turns to rage. She vows revenge—but how much revenge is enough? Euripides explores how a person’s pride can lead to deadly recklessness regarding consequences. \nThursdays 8/28 & 9/11 are Name-Your-Price-Nights. Seats are available on a first come\, first served basis. *NO reservations needed & NO ticket needed* – just show up at the Carsen Theater for the show. Donations of any amount are accepted in lieu of purchasing a ticket. \nFor Season Tickets\, please visit: www.TheUpstartCrow.org/Season-Tickets \nCurrent Season Ticket Holders\, please make your reservation at: www.TheUpstartCrow.org/Reservations \nMedea is a powerful revenge play not suitable for children due to violent descriptions.
URL:https://staging.thedairy.org/event/the-upstart-crow-presents-medea-by-euripides-directed-by-katherine-dubois-reed/2025-09-11/
LOCATION:Carsen Theater\, Walnut Street\, Boulder\, Colorado\, 80302\, United States
CATEGORIES:Student Rush Tickets,Theater
ATTACH;FMTTYPE=image/jpeg:https://media.thedairy.org/wp-content/uploads/2025/07/14112837/Medea-graphic.jpg
GEO:40.0193115;-105.261067
X-APPLE-STRUCTURED-LOCATION;VALUE=URI;X-ADDRESS=Carsen Theater Walnut Street Boulder Colorado 80302 United States;X-APPLE-RADIUS=500;X-TITLE=Walnut Street:geo:-105.261067,40.0193115
END:VEVENT
BEGIN:VEVENT
DTSTART;TZID=America/Denver:20250912T190000
DTEND;TZID=America/Denver:20250912T210000
DTSTAMP:20260420T004922
CREATED:20250714T173223Z
LAST-MODIFIED:20250730T184447Z
UID:10006874-1757703600-1757710800@staging.thedairy.org
SUMMARY:The Upstart Crow presents "Medea” by Euripides; directed by Katherine Dubois Reed
DESCRIPTION:TICKETS\nMedea’s shock and grief when her husband Jason discards her to marry King Creon’s daughter quickly turns to rage. She vows revenge—but how much revenge is enough? Euripides explores how a person’s pride can lead to deadly recklessness regarding consequences. \nThursdays 8/28 & 9/11 are Name-Your-Price-Nights. Seats are available on a first come\, first served basis. *NO reservations needed & NO ticket needed* – just show up at the Carsen Theater for the show. Donations of any amount are accepted in lieu of purchasing a ticket. \nFor Season Tickets\, please visit: www.TheUpstartCrow.org/Season-Tickets \nCurrent Season Ticket Holders\, please make your reservation at: www.TheUpstartCrow.org/Reservations \nMedea is a powerful revenge play not suitable for children due to violent descriptions.
URL:https://staging.thedairy.org/event/the-upstart-crow-presents-medea-by-euripides-directed-by-katherine-dubois-reed/2025-09-12/
LOCATION:Carsen Theater\, Walnut Street\, Boulder\, Colorado\, 80302\, United States
CATEGORIES:Student Rush Tickets,Theater
ATTACH;FMTTYPE=image/jpeg:https://media.thedairy.org/wp-content/uploads/2025/07/14112837/Medea-graphic.jpg
GEO:40.0193115;-105.261067
X-APPLE-STRUCTURED-LOCATION;VALUE=URI;X-ADDRESS=Carsen Theater Walnut Street Boulder Colorado 80302 United States;X-APPLE-RADIUS=500;X-TITLE=Walnut Street:geo:-105.261067,40.0193115
END:VEVENT
BEGIN:VEVENT
DTSTART;TZID=America/Denver:20250912T193000
DTEND;TZID=America/Denver:20250912T213000
DTSTAMP:20260420T004922
CREATED:20250707T182942Z
LAST-MODIFIED:20250707T205918Z
UID:10006850-1757705400-1757712600@staging.thedairy.org
SUMMARY:Face Vocal Band in Concert
DESCRIPTION:TICKETS\n\n\n\n\n\n\n\n\n\nFace is an internationally acclaimed all-vocal rock band from Boulder\, Colorado who have been captivating audiences for over a decade with their infectious energy punctuated by an endearing love of performance. “Blending modern popular tunes with complex harmonies\, brilliant beat-box rhythms and superb singing… Face take their audience on a musical journey and it’s fantastic fun.” (FringeReview.co.uk) \nPerforming over 100 shows per year around the world\, the band has also competed on the hit NBC series The Sing-Off\, headlined at Edinburgh\, Scotland’s prestigious Festival Fringe\, and has been scheduled in front of legendary performers such as Jon Bon Jovi\, Jay Leno\, Manhattan Transfer\, Culture Club & Boy George\, and Barenaked Ladies. \nCritics and fans worldwide describe Face as “a true American heartland sound.” (Recorded A Cappella Review Board) “[Face] communicates with a directness and warmth – perhaps America at its best.” (Norrbottens Kuriren) “Soulful singing stands out above the crowd.” (FringeReview.co.uk)
URL:https://staging.thedairy.org/event/face-vocal-band-in-concert/
LOCATION:Gordon Gamm Theater\, Walnut Street\, Boulder\, CO\, 80302\, United States
CATEGORIES:Music,Student Rush Tickets
ATTACH;FMTTYPE=image/png:https://media.thedairy.org/wp-content/uploads/2025/07/07122715/Face-Fall25-Dairy-Center-1080x1350-1.png
GEO:40.0193115;-105.261067
X-APPLE-STRUCTURED-LOCATION;VALUE=URI;X-ADDRESS=Gordon Gamm Theater Walnut Street Boulder CO 80302 United States;X-APPLE-RADIUS=500;X-TITLE=Walnut Street:geo:-105.261067,40.0193115
END:VEVENT
BEGIN:VEVENT
DTSTART;TZID=America/Denver:20250913T190000
DTEND;TZID=America/Denver:20250913T210000
DTSTAMP:20260420T004922
CREATED:20250714T173223Z
LAST-MODIFIED:20250730T184447Z
UID:10006875-1757790000-1757797200@staging.thedairy.org
SUMMARY:The Upstart Crow presents "Medea” by Euripides; directed by Katherine Dubois Reed
DESCRIPTION:TICKETS\nMedea’s shock and grief when her husband Jason discards her to marry King Creon’s daughter quickly turns to rage. She vows revenge—but how much revenge is enough? Euripides explores how a person’s pride can lead to deadly recklessness regarding consequences. \nThursdays 8/28 & 9/11 are Name-Your-Price-Nights. Seats are available on a first come\, first served basis. *NO reservations needed & NO ticket needed* – just show up at the Carsen Theater for the show. Donations of any amount are accepted in lieu of purchasing a ticket. \nFor Season Tickets\, please visit: www.TheUpstartCrow.org/Season-Tickets \nCurrent Season Ticket Holders\, please make your reservation at: www.TheUpstartCrow.org/Reservations \nMedea is a powerful revenge play not suitable for children due to violent descriptions.
URL:https://staging.thedairy.org/event/the-upstart-crow-presents-medea-by-euripides-directed-by-katherine-dubois-reed/2025-09-13/
LOCATION:Carsen Theater\, Walnut Street\, Boulder\, Colorado\, 80302\, United States
CATEGORIES:Student Rush Tickets,Theater
ATTACH;FMTTYPE=image/jpeg:https://media.thedairy.org/wp-content/uploads/2025/07/14112837/Medea-graphic.jpg
GEO:40.0193115;-105.261067
X-APPLE-STRUCTURED-LOCATION;VALUE=URI;X-ADDRESS=Carsen Theater Walnut Street Boulder Colorado 80302 United States;X-APPLE-RADIUS=500;X-TITLE=Walnut Street:geo:-105.261067,40.0193115
END:VEVENT
END:VCALENDAR